BEGIN:VCALENDAR
VERSION:2.0
PRODID:-//Contratero//ES
CALSCALE:GREGORIAN
METHOD:PUBLISH
BEGIN:VEVENT
UID:(A02003452)-HAP_SGT_2/2019@contratero.es
DTSTAMP:20260425T105837Z
DTSTART:20190703T235959
DTEND:20190704T005959
SUMMARY:Cierre: Servicios informáticos consultoría y desarrollo de
DESCRIPTION:Servicios informáticos consultoría y desarrollo del mant. correctivo\, perfectivo\, evolutivo\, adaptativo y soporte usuarios del sist. integrado de RRHH en Plataforma SAP R/3 ERP 6.0 y aplicativos web\\n\\nOrganismo: Departamento de Hacienda y Administración Pública\\n\\nVer en Contratero: https://contratero.es/contracts/(A02003452)-HAP_SGT_2/2019
URL:https://contratero.es/contracts/(A02003452)-HAP_SGT_2/2019
STATUS:CONFIRMED
BEGIN:VALARM
TRIGGER:-P1D
ACTION:DISPLAY
DESCRIPTION:Recordatorio: Servicios informáticos consult
END:VALARM
END:VEVENT
END:VCALENDAR