BEGIN:VCALENDAR
VERSION:2.0
PRODID:-//Contratero//ES
CALSCALE:GREGORIAN
METHOD:PUBLISH
BEGIN:VEVENT
UID:(A02003452)-HAP_SGT_9/2019@contratero.es
DTSTAMP:20260423T063932Z
DTSTART:20190916T235959
DTEND:20190917T005959
SUMMARY:Cierre: Mantenimiento licencias software SAP para el servi
DESCRIPTION:Mantenimiento licencias software SAP para el servicio económico contable y el sistema de recursos humanos del Gobierno de Aragón para los años 2020 y 2021\\n\\nOrganismo: Departamento de Hacienda y Administración Pública\\n\\nVer en Contratero: https://contratero.es/contracts/(A02003452)-HAP_SGT_9/2019
URL:https://contratero.es/contracts/(A02003452)-HAP_SGT_9/2019
STATUS:CONFIRMED
BEGIN:VALARM
TRIGGER:-P1D
ACTION:DISPLAY
DESCRIPTION:Recordatorio: Mantenimiento licencias softwa
END:VALARM
END:VEVENT
END:VCALENDAR