BEGIN:VCALENDAR
VERSION:2.0
PRODID:-//Contratero//ES
CALSCALE:GREGORIAN
METHOD:PUBLISH
BEGIN:VEVENT
UID:(A02003473)-1401-009/2018@contratero.es
DTSTAMP:20260425T123250Z
DTSTART:20190201T235959
DTEND:20190202T005959
SUMMARY:Cierre: Mantenimiento y mejora del sistema informático int
DESCRIPTION:Mantenimiento y mejora del sistema informático integrado de gestión y control de la Política Agraria Comunitaria y de gestión del Departamento de Desarrollo Rural y Sostenibilidad\, años 2019-2020-2021\\n\\nOrganismo: Departamento de Desarrollo Rural y Sostenibilidad\\n\\nVer en Contratero: https://contratero.es/contracts/(A02003473)-1401-009/2018
URL:https://contratero.es/contracts/(A02003473)-1401-009/2018
STATUS:CONFIRMED
BEGIN:VALARM
TRIGGER:-P1D
ACTION:DISPLAY
DESCRIPTION:Recordatorio: Mantenimiento y mejora del sis
END:VALARM
END:VEVENT
END:VCALENDAR