BEGIN:VCALENDAR
VERSION:2.0
PRODID:-//Contratero//ES
CALSCALE:GREGORIAN
METHOD:PUBLISH
BEGIN:VEVENT
UID:(A02003480)-IIU_CMY2018_04@contratero.es
DTSTAMP:20260424T015115Z
DTSTART:20180917T235959
DTEND:20180918T005959
SUMMARY:Cierre: Servicio del Centro de Atención a Usuarios de sopo
DESCRIPTION:Servicio del Centro de Atención a Usuarios de soporte técnico de Administración Electrónica del Gobierno de Aragón.\\n\\nOrganismo: Departamento de Innovación\, Investigación y Universidad\\n\\nVer en Contratero: https://contratero.es/contracts/(A02003480)-IIU_CMY2018_04
URL:https://contratero.es/contracts/(A02003480)-IIU_CMY2018_04
STATUS:CONFIRMED
BEGIN:VALARM
TRIGGER:-P1D
ACTION:DISPLAY
DESCRIPTION:Recordatorio: Servicio del Centro de Atenció
END:VALARM
END:VEVENT
END:VCALENDAR