BEGIN:VCALENDAR
VERSION:2.0
PRODID:-//Contratero//ES
CALSCALE:GREGORIAN
METHOD:PUBLISH
BEGIN:VEVENT
UID:(A02003512)-AST_2020_040_1@contratero.es
DTSTAMP:20260425T224726Z
DTSTART:20200911T235959
DTEND:20200912T005959
SUMMARY:Cierre: Desarrollo e implantación de una nueva aplicación 
DESCRIPTION:Desarrollo e implantación de una nueva aplicación informática del sistema integral de gestión de los procedimientos de evaluación y acreditación de competencias profesionales (SIGPEAC) para el Departa...\\n\\nOrganismo: Entidad Pública Aragonesa de Servicios Telemáticos\\n\\nVer en Contratero: https://contratero.es/contracts/(A02003512)-AST_2020_040_1
URL:https://contratero.es/contracts/(A02003512)-AST_2020_040_1
STATUS:CONFIRMED
BEGIN:VALARM
TRIGGER:-P1D
ACTION:DISPLAY
DESCRIPTION:Recordatorio: Desarrollo e implantación de u
END:VALARM
END:VEVENT
END:VCALENDAR