BEGIN:VCALENDAR
VERSION:2.0
PRODID:-//Contratero//ES
CALSCALE:GREGORIAN
METHOD:PUBLISH
BEGIN:VEVENT
UID:(A02024103)-SC-18-2468/0070@contratero.es
DTSTAMP:20260422T021058Z
DTSTART:20180605T235959
DTEND:20180606T005959
SUMMARY:Cierre: Licitación para la contratación del desarrollo de 
DESCRIPTION:Licitación para la contratación del desarrollo de nueva página web de Fundación CIRCE\\n\\nOrganismo: Centro de Investigación de Recursos y Consumos Energéticos\\n\\nVer en Contratero: https://contratero.es/contracts/(A02024103)-SC-18-2468/0070
URL:https://contratero.es/contracts/(A02024103)-SC-18-2468/0070
STATUS:CONFIRMED
BEGIN:VALARM
TRIGGER:-P1D
ACTION:DISPLAY
DESCRIPTION:Recordatorio: Licitación para la contratació
END:VALARM
END:VEVENT
END:VCALENDAR