BEGIN:VCALENDAR
VERSION:2.0
PRODID:-//Contratero//ES
CALSCALE:GREGORIAN
METHOD:PUBLISH
BEGIN:VEVENT
UID:(A02029279)-CUS_CMY2020_06@contratero.es
DTSTAMP:20260425T005522Z
DTSTART:20200728T235959
DTEND:20200729T005959
SUMMARY:Cierre: Desarrollo del Gestor de Expedientes Corporativo d
DESCRIPTION:Desarrollo del Gestor de Expedientes Corporativo del Gobierno de Aragón\, su soporte y evolución y las tareas complementarias necesarias para su control de calidad\\n\\nOrganismo: Departamento de Ciencia\, Universidad y Sociedad del Conocimiento\\n\\nVer en Contratero: https://contratero.es/contracts/(A02029279)-CUS_CMY2020_06
URL:https://contratero.es/contracts/(A02029279)-CUS_CMY2020_06
STATUS:CONFIRMED
BEGIN:VALARM
TRIGGER:-P1D
ACTION:DISPLAY
DESCRIPTION:Recordatorio: Desarrollo del Gestor de Exped
END:VALARM
END:VEVENT
END:VCALENDAR