BEGIN:VCALENDAR
VERSION:2.0
PRODID:-//Contratero//ES
CALSCALE:GREGORIAN
METHOD:PUBLISH
BEGIN:VEVENT
UID:000-CO-SI-2018-0004@contratero.es
DTSTAMP:20260424T105614Z
DTSTART:20190125T235959
DTEND:20190126T005959
SUMMARY:Cierre: Implantación y mantenimiento de un sistema de gest
DESCRIPTION:Implantación y mantenimiento de un sistema de gestión económico financiero sobre SAP S/4 HANA\\n\\nOrganismo: Empresa Nacional de Residuos Radiactivos\, S.A.\, S.M.E. (ENRESA)\\n\\nVer en Contratero: https://contratero.es/contracts/000-CO-SI-2018-0004
URL:https://contratero.es/contracts/000-CO-SI-2018-0004
STATUS:CONFIRMED
BEGIN:VALARM
TRIGGER:-P1D
ACTION:DISPLAY
DESCRIPTION:Recordatorio: Implantación y mantenimiento d
END:VALARM
END:VEVENT
END:VCALENDAR