BEGIN:VCALENDAR
VERSION:2.0
PRODID:-//Contratero//ES
CALSCALE:GREGORIAN
METHOD:PUBLISH
BEGIN:VEVENT
UID:0000-009-1-2023-13681@contratero.es
DTSTAMP:20260422T113740Z
DTSTART:20231030T235959
DTEND:20231031T005959
SUMMARY:Cierre: Suministro e implantación de un sistema software p
DESCRIPTION:Suministro e implantación de un sistema software para la gestión de pruebas diagnósticas digitalizadas (SGI) y herramientas de ayuda al proceso diagnóstico de la anatomía patológica\, para la Gerencia ...\\n\\nOrganismo: Gerencia Regional de Salud de Castilla y León\\n\\nVer en Contratero: https://contratero.es/contracts/0000-009-1-2023-13681
URL:https://contratero.es/contracts/0000-009-1-2023-13681
STATUS:CONFIRMED
BEGIN:VALARM
TRIGGER:-P1D
ACTION:DISPLAY
DESCRIPTION:Recordatorio: Suministro e implantación de u
END:VALARM
END:VEVENT
END:VCALENDAR