BEGIN:VCALENDAR
VERSION:2.0
PRODID:-//Contratero//ES
CALSCALE:GREGORIAN
METHOD:PUBLISH
BEGIN:VEVENT
UID:0000-009-1-2025-14432@contratero.es
DTSTAMP:20260421T171809Z
DTSTART:20240520T235959
DTEND:20240521T005959
SUMMARY:Cierre: Suministro e implantación de una plataforma de ges
DESCRIPTION:Suministro e implantación de una plataforma de gestión del conocimiento de la formación especializada\, docencia y comunicación para el ámbito sanitario de la Gerencia Regional de Salud de Castilla y L...\\n\\nOrganismo: Gerencia Regional de Salud de Castilla y León\\n\\nVer en Contratero: https://contratero.es/contracts/0000-009-1-2025-14432
URL:https://contratero.es/contracts/0000-009-1-2025-14432
STATUS:CONFIRMED
BEGIN:VALARM
TRIGGER:-P1D
ACTION:DISPLAY
DESCRIPTION:Recordatorio: Suministro e implantación de u
END:VALARM
END:VEVENT
END:VCALENDAR