BEGIN:VCALENDAR
VERSION:2.0
PRODID:-//Contratero//ES
CALSCALE:GREGORIAN
METHOD:PUBLISH
BEGIN:VEVENT
UID:0000-009-1-2026-15994@contratero.es
DTSTAMP:20260422T130801Z
DTSTART:20251020T235959
DTEND:20251021T005959
SUMMARY:Cierre: Servicio de accesibilidad y usabilidad web a nivel
DESCRIPTION:Servicio de accesibilidad y usabilidad web a nivel regional\, para los dominios de los servicios públicos del Portal de Salud de la Gerencia Regional de Salud\\n\\nOrganismo: Gerencia Regional de Salud de Castilla y León\\n\\nVer en Contratero: https://contratero.es/contracts/0000-009-1-2026-15994
URL:https://contratero.es/contracts/0000-009-1-2026-15994
STATUS:CONFIRMED
BEGIN:VALARM
TRIGGER:-P1D
ACTION:DISPLAY
DESCRIPTION:Recordatorio: Servicio de accesibilidad y us
END:VALARM
END:VEVENT
END:VCALENDAR