BEGIN:VCALENDAR
VERSION:2.0
PRODID:-//Contratero//ES
CALSCALE:GREGORIAN
METHOD:PUBLISH
BEGIN:VEVENT
UID:00000019M075@contratero.es
DTSTAMP:20260425T005114Z
DTSTART:20191217T235959
DTEND:20191218T005959
SUMMARY:Cierre: Contratación de los servicios de ingenieria inform
DESCRIPTION:Contratación de los servicios de ingenieria informatica y telecomunicaciones para la integración de sistemas y acceso al sistema central EES (Proyecto entry/exit system\, EES)\\n\\nOrganismo: Subdirección General de Gestión Económica y Patrimonial\\n\\nVer en Contratero: https://contratero.es/contracts/00000019M075
URL:https://contratero.es/contracts/00000019M075
STATUS:CONFIRMED
BEGIN:VALARM
TRIGGER:-P1D
ACTION:DISPLAY
DESCRIPTION:Recordatorio: Contratación de los servicios 
END:VALARM
END:VEVENT
END:VCALENDAR