BEGIN:VCALENDAR
VERSION:2.0
PRODID:-//Contratero//ES
CALSCALE:GREGORIAN
METHOD:PUBLISH
BEGIN:VEVENT
UID:00000020P016@contratero.es
DTSTAMP:20260426T001648Z
DTSTART:20200623T235959
DTEND:20200624T005959
SUMMARY:Cierre: Servicio de distribución avanzada de contenidos se
DESCRIPTION:Servicio de distribución avanzada de contenidos seguros y no seguros a través de Internet para los Servicios Centrales del Ministerio del Interior\\n\\nOrganismo: Subdirección General de Gestión Económica y Patrimonial\\n\\nVer en Contratero: https://contratero.es/contracts/00000020P016
URL:https://contratero.es/contracts/00000020P016
STATUS:CONFIRMED
BEGIN:VALARM
TRIGGER:-P1D
ACTION:DISPLAY
DESCRIPTION:Recordatorio: Servicio de distribución avanz
END:VALARM
END:VEVENT
END:VCALENDAR