BEGIN:VCALENDAR
VERSION:2.0
PRODID:-//Contratero//ES
CALSCALE:GREGORIAN
METHOD:PUBLISH
BEGIN:VEVENT
UID:00000020P059@contratero.es
DTSTAMP:20260423T000348Z
DTSTART:20201123T235959
DTEND:20201124T005959
SUMMARY:Cierre: Contratación de un nuevo desarrollo para el sistem
DESCRIPTION:Contratación de un nuevo desarrollo para el sistema de información Schegen RECAST con destino a la Subdirección General de Sistemas de Información y Comunicaciones para la Seguridad\\n\\nOrganismo: Subdirección General de Gestión Económica y Patrimonial\\n\\nVer en Contratero: https://contratero.es/contracts/00000020P059
URL:https://contratero.es/contracts/00000020P059
STATUS:CONFIRMED
BEGIN:VALARM
TRIGGER:-P1D
ACTION:DISPLAY
DESCRIPTION:Recordatorio: Contratación de un nuevo desar
END:VALARM
END:VEVENT
END:VCALENDAR