BEGIN:VCALENDAR
VERSION:2.0
PRODID:-//Contratero//ES
CALSCALE:GREGORIAN
METHOD:PUBLISH
BEGIN:VEVENT
UID:000011/2022@contratero.es
DTSTAMP:20260423T165043Z
DTSTART:20220719T235959
DTEND:20220720T005959
SUMMARY:Cierre: Suministro y servicios de implantación\, migración\,
DESCRIPTION:Suministro y servicios de implantación\, migración\, puesta en funcionamiento\, mantenimiento y asistencia técnica de una aplicación de gestión integral\\n\\nOrganismo: Consejería Delegada de Servicios Informáticos Local de Menorca\, S.A.\\n\\nVer en Contratero: https://contratero.es/contracts/000011/2022
URL:https://contratero.es/contracts/000011/2022
STATUS:CONFIRMED
BEGIN:VALARM
TRIGGER:-P1D
ACTION:DISPLAY
DESCRIPTION:Recordatorio: Suministro y servicios de impl
END:VALARM
END:VEVENT
END:VCALENDAR