BEGIN:VCALENDAR
VERSION:2.0
PRODID:-//Contratero//ES
CALSCALE:GREGORIAN
METHOD:PUBLISH
BEGIN:VEVENT
UID:000055/21-CMAY@contratero.es
DTSTAMP:20260424T202354Z
DTSTART:20210826T235959
DTEND:20210827T005959
SUMMARY:Cierre: Servicio de suscripción de 200 licencias del softw
DESCRIPTION:Servicio de suscripción de 200 licencias del software antivirus corporativo KARPERSKY del Ayuntamiento de Rivas Vaciamadrid.\\n\\nOrganismo: Junta de Gobierno del Ayuntamiento de Rivas Vaciamadrid\\n\\nVer en Contratero: https://contratero.es/contracts/000055/21-CMAY
URL:https://contratero.es/contracts/000055/21-CMAY
STATUS:CONFIRMED
BEGIN:VALARM
TRIGGER:-P1D
ACTION:DISPLAY
DESCRIPTION:Recordatorio: Servicio de suscripción de 200
END:VALARM
END:VEVENT
END:VCALENDAR