BEGIN:VCALENDAR
VERSION:2.0
PRODID:-//Contratero//ES
CALSCALE:GREGORIAN
METHOD:PUBLISH
BEGIN:VEVENT
UID:0007-21gpse@contratero.es
DTSTAMP:20260424T221654Z
DTSTART:20210723T235959
DTEND:20210724T005959
SUMMARY:Cierre: mantenimiento del software i2a cronos para gestion
DESCRIPTION:mantenimiento del software i2a cronos para gestion de instalaciones deportivas. numero de expediente 0007-21gpse\\n\\nOrganismo: Gerencia de Servicios Comunitarios de Molina S.A. (SERCOMOSA)\\n\\nVer en Contratero: https://contratero.es/contracts/0007-21gpse
URL:https://contratero.es/contracts/0007-21gpse
STATUS:CONFIRMED
BEGIN:VALARM
TRIGGER:-P1D
ACTION:DISPLAY
DESCRIPTION:Recordatorio: mantenimiento del software i2a
END:VALARM
END:VEVENT
END:VCALENDAR