BEGIN:VCALENDAR
VERSION:2.0
PRODID:-//Contratero//ES
CALSCALE:GREGORIAN
METHOD:PUBLISH
BEGIN:VEVENT
UID:0007008-26@contratero.es
DTSTAMP:20260419T195218Z
DTSTART:20260325T235959
DTEND:20260326T005959
SUMMARY:Cierre: Servicio de la herramienta de análisis automático 
DESCRIPTION:Servicio de la herramienta de análisis automático de la accesibilidad web de la sede electrónica.\\n\\nOrganismo: Concejalía Delegada de Transformación Digital y Transparencia del Ayuntamiento de Zaragoza\\n\\nVer en Contratero: https://contratero.es/contracts/0007008-26
URL:https://contratero.es/contracts/0007008-26
STATUS:CONFIRMED
BEGIN:VALARM
TRIGGER:-P1D
ACTION:DISPLAY
DESCRIPTION:Recordatorio: Servicio de la herramienta de 
END:VALARM
END:VEVENT
END:VCALENDAR