BEGIN:VCALENDAR
VERSION:2.0
PRODID:-//Contratero//ES
CALSCALE:GREGORIAN
METHOD:PUBLISH
BEGIN:VEVENT
UID:0009478-25@contratero.es
DTSTAMP:20260423T063302Z
DTSTART:20250428T235959
DTEND:20250429T005959
SUMMARY:Cierre: Servicio de mantenimiento del sistema integral de 
DESCRIPTION:Servicio de mantenimiento del sistema integral de control de accesos y gestión de Centros Deportivos Municipales\\n\\nOrganismo: Concejalía Delegada de Deportes del Ayuntamiento de Zaragoza\\n\\nVer en Contratero: https://contratero.es/contracts/0009478-25
URL:https://contratero.es/contracts/0009478-25
STATUS:CONFIRMED
BEGIN:VALARM
TRIGGER:-P1D
ACTION:DISPLAY
DESCRIPTION:Recordatorio: Servicio de mantenimiento del 
END:VALARM
END:VEVENT
END:VCALENDAR