BEGIN:VCALENDAR
VERSION:2.0
PRODID:-//Contratero//ES
CALSCALE:GREGORIAN
METHOD:PUBLISH
BEGIN:VEVENT
UID:001/24-RI@contratero.es
DTSTAMP:20260426T002057Z
DTSTART:20240408T235959
DTEND:20240409T005959
SUMMARY:Cierre: Servicio de mantenimiento de infraestructura HPE d
DESCRIPTION:Servicio de mantenimiento de infraestructura HPE de RedIRIS\\n\\nOrganismo: Dirección General de la Entidad Pública Empresarial RED.ES\\n\\nVer en Contratero: https://contratero.es/contracts/001/24-RI
URL:https://contratero.es/contracts/001/24-RI
STATUS:CONFIRMED
BEGIN:VALARM
TRIGGER:-P1D
ACTION:DISPLAY
DESCRIPTION:Recordatorio: Servicio de mantenimiento de i
END:VALARM
END:VEVENT
END:VCALENDAR