BEGIN:VCALENDAR
VERSION:2.0
PRODID:-//Contratero//ES
CALSCALE:GREGORIAN
METHOD:PUBLISH
BEGIN:VEVENT
UID:00106-2023@contratero.es
DTSTAMP:20260425T130729Z
DTSTART:20230719T235959
DTEND:20230720T005959
SUMMARY:Cierre: Suministro de licencias de FileMaker Pro Advanced
DESCRIPTION:Suministro de licencias de FileMaker Pro Advanced\\n\\nOrganismo: Rectorado de la Universidad de Zaragoza\\n\\nVer en Contratero: https://contratero.es/contracts/00106-2023
URL:https://contratero.es/contracts/00106-2023
STATUS:CONFIRMED
BEGIN:VALARM
TRIGGER:-P1D
ACTION:DISPLAY
DESCRIPTION:Recordatorio: Suministro de licencias de Fil
END:VALARM
END:VEVENT
END:VCALENDAR