BEGIN:VCALENDAR
VERSION:2.0
PRODID:-//Contratero//ES
CALSCALE:GREGORIAN
METHOD:PUBLISH
BEGIN:VEVENT
UID:0013518-23@contratero.es
DTSTAMP:20260425T130730Z
DTSTART:20230526T235959
DTEND:20230527T005959
SUMMARY:Cierre: Suministro de renovación de licencias de los módul
DESCRIPTION:Suministro de renovación de licencias de los módulos Editran de los sistemas de información corporativos.\\n\\nOrganismo: Consejería de Economía\, Innovación y Empleo del Ayuntamiento de Zaragoza\\n\\nVer en Contratero: https://contratero.es/contracts/0013518-23
URL:https://contratero.es/contracts/0013518-23
STATUS:CONFIRMED
BEGIN:VALARM
TRIGGER:-P1D
ACTION:DISPLAY
DESCRIPTION:Recordatorio: Suministro de renovación de li
END:VALARM
END:VEVENT
END:VCALENDAR