BEGIN:VCALENDAR
VERSION:2.0
PRODID:-//Contratero//ES
CALSCALE:GREGORIAN
METHOD:PUBLISH
BEGIN:VEVENT
UID:001982/2025@contratero.es
DTSTAMP:20260423T133856Z
DTSTART:20250321T235959
DTEND:20250322T005959
SUMMARY:Cierre: Se desea contratar dos bolsas de horas de consulto
DESCRIPTION:Se desea contratar dos bolsas de horas de consultoría senior SAP con capacidad de resolución de peticiones de alta complejidad técnica de mantenimiento correctivo\, adaptativo\, evolutivo e integración ...\\n\\nOrganismo: Consejo de Administración de EMAYA\, Empresa Municipal d'Aigües i Clavegueram\, S.A.\\n\\nVer en Contratero: https://contratero.es/contracts/001982/2025
URL:https://contratero.es/contracts/001982/2025
STATUS:CONFIRMED
BEGIN:VALARM
TRIGGER:-P1D
ACTION:DISPLAY
DESCRIPTION:Recordatorio: Se desea contratar dos bolsas 
END:VALARM
END:VEVENT
END:VCALENDAR