BEGIN:VCALENDAR
VERSION:2.0
PRODID:-//Contratero//ES
CALSCALE:GREGORIAN
METHOD:PUBLISH
BEGIN:VEVENT
UID:002494/2026@contratero.es
DTSTAMP:20260419T134422Z
DTSTART:20260327T235959
DTEND:20260328T005959
SUMMARY:Cierre: Servicio de renovación de licencias software de Ba
DESCRIPTION:Servicio de renovación de licencias software de Base de datos de precios de la Construcción BEDEC\\n\\nOrganismo: Consejo de Administración de EMAYA\, Empresa Municipal d'Aigües i Clavegueram\, S.A.\\n\\nVer en Contratero: https://contratero.es/contracts/002494/2026
URL:https://contratero.es/contracts/002494/2026
STATUS:CONFIRMED
BEGIN:VALARM
TRIGGER:-P1D
ACTION:DISPLAY
DESCRIPTION:Recordatorio: Servicio de renovación de lice
END:VALARM
END:VEVENT
END:VCALENDAR