BEGIN:VCALENDAR
VERSION:2.0
PRODID:-//Contratero//ES
CALSCALE:GREGORIAN
METHOD:PUBLISH
BEGIN:VEVENT
UID:002498/2026@contratero.es
DTSTAMP:20260420T090501Z
DTSTART:20260302T235959
DTEND:20260303T005959
SUMMARY:Cierre: Suministro de infraestructura  ICMLIVE
DESCRIPTION:Suministro de infraestructura  ICMLIVE\\n\\nOrganismo: Consejo de Administración de EMAYA\, Empresa Municipal d'Aigües i Clavegueram\, S.A.\\n\\nVer en Contratero: https://contratero.es/contracts/002498/2026
URL:https://contratero.es/contracts/002498/2026
STATUS:CONFIRMED
BEGIN:VALARM
TRIGGER:-P1D
ACTION:DISPLAY
DESCRIPTION:Recordatorio: Suministro de infraestructura 
END:VALARM
END:VEVENT
END:VCALENDAR