BEGIN:VCALENDAR
VERSION:2.0
PRODID:-//Contratero//ES
CALSCALE:GREGORIAN
METHOD:PUBLISH
BEGIN:VEVENT
UID:0025/2023@contratero.es
DTSTAMP:20260424T160756Z
DTSTART:20240102T235959
DTEND:20240103T005959
SUMMARY:Cierre: Suministro de licencia de uso y mantenimiento de u
DESCRIPTION:Suministro de licencia de uso y mantenimiento de una herramienta informática para la gestión de la bolsa de empleo de intermediación\\n\\nOrganismo: Junta de Gobierno del Ayuntamiento de Leganés\\n\\nVer en Contratero: https://contratero.es/contracts/0025/2023
URL:https://contratero.es/contracts/0025/2023
STATUS:CONFIRMED
BEGIN:VALARM
TRIGGER:-P1D
ACTION:DISPLAY
DESCRIPTION:Recordatorio: Suministro de licencia de uso 
END:VALARM
END:VEVENT
END:VCALENDAR