BEGIN:VCALENDAR
VERSION:2.0
PRODID:-//Contratero//ES
CALSCALE:GREGORIAN
METHOD:PUBLISH
BEGIN:VEVENT
UID:002509/2025@contratero.es
DTSTAMP:20260420T223911Z
DTSTART:20251110T235959
DTEND:20251111T005959
SUMMARY:Cierre: Servicio de Auditoría Externa de Ciberseguridad
DESCRIPTION:Servicio de Auditoría Externa de Ciberseguridad\\n\\nOrganismo: Comité de Dirección de Equipos Nucleares S.A.\\n\\nVer en Contratero: https://contratero.es/contracts/002509/2025
URL:https://contratero.es/contracts/002509/2025
STATUS:CONFIRMED
BEGIN:VALARM
TRIGGER:-P1D
ACTION:DISPLAY
DESCRIPTION:Recordatorio: Servicio de Auditoría Externa 
END:VALARM
END:VEVENT
END:VCALENDAR