BEGIN:VCALENDAR
VERSION:2.0
PRODID:-//Contratero//ES
CALSCALE:GREGORIAN
METHOD:PUBLISH
BEGIN:VEVENT
UID:0030024SR003@contratero.es
DTSTAMP:20260423T001021Z
DTSTART:20240628T235959
DTEND:20240629T005959
SUMMARY:Cierre: Servicio de centro de atención a usuarios y servic
DESCRIPTION:Servicio de centro de atención a usuarios y servicios de asistencia técnica para el mantenimiento del equipamiento microinformático de la Agencia Española de Seguridad Alimentaria y Nutrición O.A. (en...\\n\\nOrganismo: Dirección Ejecutiva de la Agencia Española de Seguridad Alimentaria y Nutrición\\n\\nVer en Contratero: https://contratero.es/contracts/0030024SR003
URL:https://contratero.es/contracts/0030024SR003
STATUS:CONFIRMED
BEGIN:VALARM
TRIGGER:-P1D
ACTION:DISPLAY
DESCRIPTION:Recordatorio: Servicio de centro de atención
END:VALARM
END:VEVENT
END:VCALENDAR