BEGIN:VCALENDAR
VERSION:2.0
PRODID:-//Contratero//ES
CALSCALE:GREGORIAN
METHOD:PUBLISH
BEGIN:VEVENT
UID:003046/2022@contratero.es
DTSTAMP:20260421T054048Z
DTSTART:20221201T235959
DTEND:20221202T005959
SUMMARY:Cierre: La presente licitación tiene como objeto la contra
DESCRIPTION:La presente licitación tiene como objeto la contratación del  Suministro y Servicio de mantenimiento del programa informático de cálculo para el diseño de tanques e intercambiadores de calor (PV Elite...\\n\\nOrganismo: Comité de Dirección de Equipos Nucleares S.A.\\n\\nVer en Contratero: https://contratero.es/contracts/003046/2022
URL:https://contratero.es/contracts/003046/2022
STATUS:CONFIRMED
BEGIN:VALARM
TRIGGER:-P1D
ACTION:DISPLAY
DESCRIPTION:Recordatorio: La presente licitación tiene c
END:VALARM
END:VEVENT
END:VCALENDAR