BEGIN:VCALENDAR
VERSION:2.0
PRODID:-//Contratero//ES
CALSCALE:GREGORIAN
METHOD:PUBLISH
BEGIN:VEVENT
UID:003048/2021@contratero.es
DTSTAMP:20260424T140416Z
DTSTART:20211215T235959
DTEND:20211216T005959
SUMMARY:Cierre: La presente licitación tiene por objeto la formali
DESCRIPTION:La presente licitación tiene por objeto la formalización de un Servicio de Mantenimiento Endpoint Protection Business para Equipos Nucleares\, S.A.\, S.M.E. (Ensa)\\n\\nOrganismo: Comité de Dirección de Equipos Nucleares S.A.\\n\\nVer en Contratero: https://contratero.es/contracts/003048/2021
URL:https://contratero.es/contracts/003048/2021
STATUS:CONFIRMED
BEGIN:VALARM
TRIGGER:-P1D
ACTION:DISPLAY
DESCRIPTION:Recordatorio: La presente licitación tiene p
END:VALARM
END:VEVENT
END:VCALENDAR