BEGIN:VCALENDAR
VERSION:2.0
PRODID:-//Contratero//ES
CALSCALE:GREGORIAN
METHOD:PUBLISH
BEGIN:VEVENT
UID:0033/2023@contratero.es
DTSTAMP:20260425T163406Z
DTSTART:20230602T235959
DTEND:20230603T005959
SUMMARY:Cierre: Suministro de 20 licencias de software de trabajo 
DESCRIPTION:Suministro de 20 licencias de software de trabajo colaborativo en entorno web\\n\\nOrganismo: Junta de Gobierno del Ayuntamiento de Leganés\\n\\nVer en Contratero: https://contratero.es/contracts/0033/2023
URL:https://contratero.es/contracts/0033/2023
STATUS:CONFIRMED
BEGIN:VALARM
TRIGGER:-P1D
ACTION:DISPLAY
DESCRIPTION:Recordatorio: Suministro de 20 licencias de 
END:VALARM
END:VEVENT
END:VCALENDAR