BEGIN:VCALENDAR
VERSION:2.0
PRODID:-//Contratero//ES
CALSCALE:GREGORIAN
METHOD:PUBLISH
BEGIN:VEVENT
UID:003SER26@contratero.es
DTSTAMP:20260420T181741Z
DTSTART:20260325T235959
DTEND:20260326T005959
SUMMARY:Cierre: Contrato de servicios para dotar de personal de ta
DESCRIPTION:Contrato de servicios para dotar de personal de taquilla a la piscina municipal de verano del Polideportivo de Covadonga de Navalcarnero (Madrid).\\n\\nOrganismo: Junta de Gobierno del Ayuntamiento de Navalcarnero\\n\\nVer en Contratero: https://contratero.es/contracts/003SER26
URL:https://contratero.es/contracts/003SER26
STATUS:CONFIRMED
BEGIN:VALARM
TRIGGER:-P1D
ACTION:DISPLAY
DESCRIPTION:Recordatorio: Contrato de servicios para dot
END:VALARM
END:VEVENT
END:VCALENDAR