BEGIN:VCALENDAR
VERSION:2.0
PRODID:-//Contratero//ES
CALSCALE:GREGORIAN
METHOD:PUBLISH
BEGIN:VEVENT
UID:0041650-25@contratero.es
DTSTAMP:20260424T022444Z
DTSTART:20250901T235959
DTEND:20250902T005959
SUMMARY:Cierre: Desarrollo de servicios para gemelo digital. 3 lot
DESCRIPTION:Desarrollo de servicios para gemelo digital. 3 lotes.\\n\\nOrganismo: Consejería de Economía\, Transformación Digital y Transparencia del Ayuntamiento de Zaragoza\\n\\nVer en Contratero: https://contratero.es/contracts/0041650-25
URL:https://contratero.es/contracts/0041650-25
STATUS:CONFIRMED
BEGIN:VALARM
TRIGGER:-P1D
ACTION:DISPLAY
DESCRIPTION:Recordatorio: Desarrollo de servicios para g
END:VALARM
END:VEVENT
END:VCALENDAR