BEGIN:VCALENDAR
VERSION:2.0
PRODID:-//Contratero//ES
CALSCALE:GREGORIAN
METHOD:PUBLISH
BEGIN:VEVENT
UID:0048-24@contratero.es
DTSTAMP:20260424T174955Z
DTSTART:20240418T235959
DTEND:20240419T005959
SUMMARY:Cierre: Contratación del soporte y mantenimiento de la sol
DESCRIPTION:Contratación del soporte y mantenimiento de la solución de contact center de Ciutat de les Arts i les Ciències\\n\\nOrganismo: Dirección General de la Ciudad de las Artes y de las Ciencias S.A.\\n\\nVer en Contratero: https://contratero.es/contracts/0048-24
URL:https://contratero.es/contracts/0048-24
STATUS:CONFIRMED
BEGIN:VALARM
TRIGGER:-P1D
ACTION:DISPLAY
DESCRIPTION:Recordatorio: Contratación del soporte y man
END:VALARM
END:VEVENT
END:VCALENDAR