BEGIN:VCALENDAR
VERSION:2.0
PRODID:-//Contratero//ES
CALSCALE:GREGORIAN
METHOD:PUBLISH
BEGIN:VEVENT
UID:0062-25@contratero.es
DTSTAMP:20260422T130413Z
DTSTART:20250613T235959
DTEND:20250614T005959
SUMMARY:Cierre: Contratación de las licencias de software de Micro
DESCRIPTION:Contratación de las licencias de software de Microsoft Windows Server 2025\\n\\nOrganismo: Dirección General de la Ciudad de las Artes y de las Ciencias S.A.\\n\\nVer en Contratero: https://contratero.es/contracts/0062-25
URL:https://contratero.es/contracts/0062-25
STATUS:CONFIRMED
BEGIN:VALARM
TRIGGER:-P1D
ACTION:DISPLAY
DESCRIPTION:Recordatorio: Contratación de las licencias 
END:VALARM
END:VEVENT
END:VCALENDAR