BEGIN:VCALENDAR
VERSION:2.0
PRODID:-//Contratero//ES
CALSCALE:GREGORIAN
METHOD:PUBLISH
BEGIN:VEVENT
UID:0064/2022@contratero.es
DTSTAMP:20260424T044342Z
DTSTART:20220728T235959
DTEND:20220729T005959
SUMMARY:Cierre: Contratación aplicación informática para el servic
DESCRIPTION:Contratación aplicación informática para el servicio integral de Gestión Tributaria y Recaudación (SIGTR) para el Ayuntamiento de Leganés\, siguiendo el modelo de adquisición de la licencia para su uso...\\n\\nOrganismo: Junta de Gobierno del Ayuntamiento de Leganés\\n\\nVer en Contratero: https://contratero.es/contracts/0064/2022
URL:https://contratero.es/contracts/0064/2022
STATUS:CONFIRMED
BEGIN:VALARM
TRIGGER:-P1D
ACTION:DISPLAY
DESCRIPTION:Recordatorio: Contratación aplicación inform
END:VALARM
END:VEVENT
END:VCALENDAR