BEGIN:VCALENDAR
VERSION:2.0
PRODID:-//Contratero//ES
CALSCALE:GREGORIAN
METHOD:PUBLISH
BEGIN:VEVENT
UID:007/24-RI@contratero.es
DTSTAMP:20260425T205842Z
DTSTART:20240506T235959
DTEND:20240507T005959
SUMMARY:Cierre: Servicio de mantenimiento y soporte de los servido
DESCRIPTION:Servicio de mantenimiento y soporte de los servidores de la RFB de RedIRIS\\n\\nOrganismo: Dirección General de la Entidad Pública Empresarial RED.ES\\n\\nVer en Contratero: https://contratero.es/contracts/007/24-RI
URL:https://contratero.es/contracts/007/24-RI
STATUS:CONFIRMED
BEGIN:VALARM
TRIGGER:-P1D
ACTION:DISPLAY
DESCRIPTION:Recordatorio: Servicio de mantenimiento y so
END:VALARM
END:VEVENT
END:VCALENDAR