BEGIN:VCALENDAR
VERSION:2.0
PRODID:-//Contratero//ES
CALSCALE:GREGORIAN
METHOD:PUBLISH
BEGIN:VEVENT
UID:0093879-25@contratero.es
DTSTAMP:20260421T102155Z
DTSTART:20260602T235959
DTEND:20260603T005959
SUMMARY:Cierre: Asistencia técnica para el diseño de la prioridad 
DESCRIPTION:Asistencia técnica para el diseño de la prioridad semafórica del autobús urbano mediante desarrollo del algoritmo de prioridad\, la realización de una prueba piloto y el seguimiento de su implantación.\\n\\nOrganismo: Gobierno de Zaragoza\\n\\nVer en Contratero: https://contratero.es/contracts/0093879-25
URL:https://contratero.es/contracts/0093879-25
STATUS:CONFIRMED
BEGIN:VALARM
TRIGGER:-P1D
ACTION:DISPLAY
DESCRIPTION:Recordatorio: Asistencia técnica para el dis
END:VALARM
END:VEVENT
END:VCALENDAR