BEGIN:VCALENDAR
VERSION:2.0
PRODID:-//Contratero//ES
CALSCALE:GREGORIAN
METHOD:PUBLISH
BEGIN:VEVENT
UID:01-2023@contratero.es
DTSTAMP:20260419T135223Z
DTSTART:20240113T235959
DTEND:20240114T005959
SUMMARY:Cierre: Servicios de mantenimiento de equipos informáticos
DESCRIPTION:Servicios de mantenimiento de equipos informáticos\, servidor\, web y hosting de ARA\\n\\nOrganismo: Presidencia de la Asociación para el Desarrollo Rural de Andalucía\\n\\nVer en Contratero: https://contratero.es/contracts/01-2023
URL:https://contratero.es/contracts/01-2023
STATUS:CONFIRMED
BEGIN:VALARM
TRIGGER:-P1D
ACTION:DISPLAY
DESCRIPTION:Recordatorio: Servicios de mantenimiento de 
END:VALARM
END:VEVENT
END:VCALENDAR