BEGIN:VCALENDAR
VERSION:2.0
PRODID:-//Contratero//ES
CALSCALE:GREGORIAN
METHOD:PUBLISH
BEGIN:VEVENT
UID:01.2020@contratero.es
DTSTAMP:20260423T053803Z
DTSTART:20201104T235959
DTEND:20201105T005959
SUMMARY:Cierre: _ Formación del personal de los entes sujetos a la
DESCRIPTION:_ Formación del personal de los entes sujetos a la Ley 12/2014 de 16 de diciembre de Transparencia y Participación de la Región de Murcia en el manejo de la aplicación de autoevaluación de la publicid...\\n\\nOrganismo: Consejo de la Transparencia de la Región de Murcia\\n\\nVer en Contratero: https://contratero.es/contracts/01.2020
URL:https://contratero.es/contracts/01.2020
STATUS:CONFIRMED
BEGIN:VALARM
TRIGGER:-P1D
ACTION:DISPLAY
DESCRIPTION:Recordatorio: _ Formación del personal de lo
END:VALARM
END:VEVENT
END:VCALENDAR