BEGIN:VCALENDAR
VERSION:2.0
PRODID:-//Contratero//ES
CALSCALE:GREGORIAN
METHOD:PUBLISH
BEGIN:VEVENT
UID:01.CDHOMPAYTO2020000320@contratero.es
DTSTAMP:20260422T001110Z
DTSTART:20210319T235959
DTEND:20210320T005959
SUMMARY:Cierre: Plataforma de teletrabajo bajo la modalidad SaaS p
DESCRIPTION:Plataforma de teletrabajo bajo la modalidad SaaS para el Ayuntamiento de Gijón\, sus Organismos Autónomos y empresas de promoción  y desarrollo (CMESA\, DIVERTIA y EMVISL)\\n\\nOrganismo: Concejalía Delegada de Hacienda\, Organización Municipal y Personal del Ayuntamiento de Gijón\\n\\nVer en Contratero: https://contratero.es/contracts/01.CDHOMPAYTO2020000320
URL:https://contratero.es/contracts/01.CDHOMPAYTO2020000320
STATUS:CONFIRMED
BEGIN:VALARM
TRIGGER:-P1D
ACTION:DISPLAY
DESCRIPTION:Recordatorio: Plataforma de teletrabajo bajo
END:VALARM
END:VEVENT
END:VCALENDAR