BEGIN:VCALENDAR
VERSION:2.0
PRODID:-//Contratero//ES
CALSCALE:GREGORIAN
METHOD:PUBLISH
BEGIN:VEVENT
UID:01/20@contratero.es
DTSTAMP:20260422T032600Z
DTSTART:20200110T235959
DTEND:20200111T005959
SUMMARY:Cierre: Servicio de Alojamiento en Modalidad de Hosting pa
DESCRIPTION:Servicio de Alojamiento en Modalidad de Hosting para distintos sitios web del Tribunal de Cuentas por un periodo de dos años.\\n\\nOrganismo: Presidencia del Tribunal de Cuentas\\n\\nVer en Contratero: https://contratero.es/contracts/01/20
URL:https://contratero.es/contracts/01/20
STATUS:CONFIRMED
BEGIN:VALARM
TRIGGER:-P1D
ACTION:DISPLAY
DESCRIPTION:Recordatorio: Servicio de Alojamiento en Mod
END:VALARM
END:VEVENT
END:VCALENDAR