BEGIN:VCALENDAR
VERSION:2.0
PRODID:-//Contratero//ES
CALSCALE:GREGORIAN
METHOD:PUBLISH
BEGIN:VEVENT
UID:01/2025@contratero.es
DTSTAMP:20260422T151939Z
DTSTART:20251222T235959
DTEND:20251223T005959
SUMMARY:Cierre: Servicios de Soporte y Mantenimiento Correctivo\, E
DESCRIPTION:Servicios de Soporte y Mantenimiento Correctivo\, Evolutivo y Licencias de MICROSOFT DYNAMICS 365 BUSINESS CENTRAL.\\n\\nOrganismo: Autoridad Portuaria de Cartagena\\n\\nVer en Contratero: https://contratero.es/contracts/01/2025
URL:https://contratero.es/contracts/01/2025
STATUS:CONFIRMED
BEGIN:VALARM
TRIGGER:-P1D
ACTION:DISPLAY
DESCRIPTION:Recordatorio: Servicios de Soporte y Manteni
END:VALARM
END:VEVENT
END:VCALENDAR