BEGIN:VCALENDAR
VERSION:2.0
PRODID:-//Contratero//ES
CALSCALE:GREGORIAN
METHOD:PUBLISH
BEGIN:VEVENT
UID:010/2022/12114@contratero.es
DTSTAMP:20260424T123251Z
DTSTART:20211115T235959
DTEND:20211116T005959
SUMMARY:Cierre: Servicio de mantenimiento del software del sistema
DESCRIPTION:Servicio de mantenimiento del software del sistema de gestión del laboratorio de microbiología "GLIMS" implantado en el Hospital Virgen de la Concha de la Gerencia de Asistencia Sanitaria de Zamora.\\n\\nOrganismo: Gerencia de Asistencia Sanitaria de Zamora\\n\\nVer en Contratero: https://contratero.es/contracts/010/2022/12114
URL:https://contratero.es/contracts/010/2022/12114
STATUS:CONFIRMED
BEGIN:VALARM
TRIGGER:-P1D
ACTION:DISPLAY
DESCRIPTION:Recordatorio: Servicio de mantenimiento del 
END:VALARM
END:VEVENT
END:VCALENDAR