BEGIN:VCALENDAR
VERSION:2.0
PRODID:-//Contratero//ES
CALSCALE:GREGORIAN
METHOD:PUBLISH
BEGIN:VEVENT
UID:010023CO0002@contratero.es
DTSTAMP:20260422T152141Z
DTSTART:20230531T235959
DTEND:20230601T005959
SUMMARY:Cierre: Contratación Del Servicio Del Portal Web Mapa De C
DESCRIPTION:Contratación Del Servicio Del Portal Web Mapa De Cuidados Mediante Procedimiento Abierto Simplificado. Plan De Recuperación\, Transformación Y Resiliencia  Financiado Por La Unión Europea  Nextgenerati...\\n\\nOrganismo: Instituto de las Mujeres\\n\\nVer en Contratero: https://contratero.es/contracts/010023CO0002
URL:https://contratero.es/contracts/010023CO0002
STATUS:CONFIRMED
BEGIN:VALARM
TRIGGER:-P1D
ACTION:DISPLAY
DESCRIPTION:Recordatorio: Contratación Del Servicio Del 
END:VALARM
END:VEVENT
END:VCALENDAR