BEGIN:VCALENDAR
VERSION:2.0
PRODID:-//Contratero//ES
CALSCALE:GREGORIAN
METHOD:PUBLISH
BEGIN:VEVENT
UID:0100918PAS002@contratero.es
DTSTAMP:20260425T181910Z
DTSTART:20190429T235959
DTEND:20190430T005959
SUMMARY:Cierre: trabajos de elaboración de las bases de datos esta
DESCRIPTION:trabajos de elaboración de las bases de datos estatales\, tabulación y análisis de los indicadores de tratamiento\, mortalidad y urgencias de la Unidad de Sistemas de Información y documentación de la D...\\n\\nOrganismo: Delegación del Gobierno para el Plan Nacional sobre Drogas\\n\\nVer en Contratero: https://contratero.es/contracts/0100918PAS002
URL:https://contratero.es/contracts/0100918PAS002
STATUS:CONFIRMED
BEGIN:VALARM
TRIGGER:-P1D
ACTION:DISPLAY
DESCRIPTION:Recordatorio: trabajos de elaboración de las
END:VALARM
END:VEVENT
END:VCALENDAR