BEGIN:VCALENDAR
VERSION:2.0
PRODID:-//Contratero//ES
CALSCALE:GREGORIAN
METHOD:PUBLISH
BEGIN:VEVENT
UID:012/2021@contratero.es
DTSTAMP:20260423T184550Z
DTSTART:20210705T235959
DTEND:20210706T005959
SUMMARY:Cierre: Servicio de marketing digital\, gestión de contenid
DESCRIPTION:Servicio de marketing digital\, gestión de contenidos y redes sociales destinado a la ejecución del plan de marketing definido para el programa de ICEX eMarket Services.\\n\\nOrganismo: Consejo de Administración de ICEX España Exportación e Inversiones\, E.P.E.\\n\\nVer en Contratero: https://contratero.es/contracts/012/2021
URL:https://contratero.es/contracts/012/2021
STATUS:CONFIRMED
BEGIN:VALARM
TRIGGER:-P1D
ACTION:DISPLAY
DESCRIPTION:Recordatorio: Servicio de marketing digital\,
END:VALARM
END:VEVENT
END:VCALENDAR