BEGIN:VCALENDAR
VERSION:2.0
PRODID:-//Contratero//ES
CALSCALE:GREGORIAN
METHOD:PUBLISH
BEGIN:VEVENT
UID:012/2026@contratero.es
DTSTAMP:20260420T011628Z
DTSTART:20260306T235959
DTEND:20260307T005959
SUMMARY:Cierre: Ejecución del proyecto del Eje 4 A13.2 proyecto mu
DESCRIPTION:Ejecución del proyecto del Eje 4 A13.2 proyecto museográfico y museístico para la digitalización de los monumentos de Oropesa dentro del Plan de Sostenibilidad Turística de la Campana de Oropesa.\\n\\nOrganismo: Presidencia de la Diputación Provincial de Toledo\\n\\nVer en Contratero: https://contratero.es/contracts/012/2026
URL:https://contratero.es/contracts/012/2026
STATUS:CONFIRMED
BEGIN:VALARM
TRIGGER:-P1D
ACTION:DISPLAY
DESCRIPTION:Recordatorio: Ejecución del proyecto del Eje
END:VALARM
END:VEVENT
END:VCALENDAR