BEGIN:VCALENDAR
VERSION:2.0
PRODID:-//Contratero//ES
CALSCALE:GREGORIAN
METHOD:PUBLISH
BEGIN:VEVENT
UID:0129-25@contratero.es
DTSTAMP:20260420T140329Z
DTSTART:20251216T235959
DTEND:20251217T005959
SUMMARY:Cierre: Contratación del derecho de uso y soporte del sist
DESCRIPTION:Contratación del derecho de uso y soporte del sistema de gestión de calidad y medioambiente QDOC de CACSA\\n\\nOrganismo: Dirección General de la Ciudad de las Artes y de las Ciencias S.A.\\n\\nVer en Contratero: https://contratero.es/contracts/0129-25
URL:https://contratero.es/contracts/0129-25
STATUS:CONFIRMED
BEGIN:VALARM
TRIGGER:-P1D
ACTION:DISPLAY
DESCRIPTION:Recordatorio: Contratación del derecho de us
END:VALARM
END:VEVENT
END:VCALENDAR