BEGIN:VCALENDAR
VERSION:2.0
PRODID:-//Contratero//ES
CALSCALE:GREGORIAN
METHOD:PUBLISH
BEGIN:VEVENT
UID:016/24-RI@contratero.es
DTSTAMP:20260420T213501Z
DTSTART:20240703T235959
DTEND:20240704T005959
SUMMARY:Cierre: Servicio de soporte técnico avanzado para la gesti
DESCRIPTION:Servicio de soporte técnico avanzado para la gestión y operación de la infraestructura de Red de RedIRIS\\n\\nOrganismo: Dirección General de la Entidad Pública Empresarial RED.ES\\n\\nVer en Contratero: https://contratero.es/contracts/016/24-RI
URL:https://contratero.es/contracts/016/24-RI
STATUS:CONFIRMED
BEGIN:VALARM
TRIGGER:-P1D
ACTION:DISPLAY
DESCRIPTION:Recordatorio: Servicio de soporte técnico av
END:VALARM
END:VEVENT
END:VCALENDAR